BEGIN:VCALENDAR
VERSION:2.0
PRODID:icalendar-ruby
CALSCALE:GREGORIAN
METHOD:PUBLISH
BEGIN:VEVENT
DTSTAMP:20260421T170558Z
UID:11-265164@firstcoastbaptist.com
DTSTART;VALUE=DATE:20260510
DTEND;VALUE=DATE:20260510
CLASS:PUBLIC
CREATED:20260421T090104
DESCRIPTION:
LAST-MODIFIED:20260421T090104
LOCATION:
SUMMARY:Mother's Day at First Coast
URL;VALUE=URI:https://www.firstcoastbaptist.com/events/mothers-day-at-first
 -coast/2026-05-10
ATTACH;FILENAME=Mothers-Day-2026.png;FMTTYPE=image/png:https://dq5pwpg1q8ru
 0.cloudfront.net/2026/04/21/13/01/03/f88a3e88-b191-4a9c-bb23-6bef369d5a8f/
 Mothers-Day-2026.png
END:VEVENT
END:VCALENDAR
