BEGIN:VCALENDAR
VERSION:2.0
PRODID:icalendar-ruby
CALSCALE:GREGORIAN
METHOD:PUBLISH
BEGIN:VEVENT
DTSTAMP:20260421T122914Z
UID:10-265163@firstcoastbaptist.com
DTSTART:20260503T204500Z
DTEND:20260503T223000Z
CLASS:PUBLIC
CREATED:20260420T145822
DESCRIPTION:Join us for a special awards ceremony to mark the end of our sp
 ring semester of Generation to Generation!
LAST-MODIFIED:20260420T145822
LOCATION:
SUMMARY:G2G Finale
URL;VALUE=URI:https://www.firstcoastbaptist.com/events/g2g-finale/2026-05-0
 3
ATTACH;FILENAME=G2G2026.png;FMTTYPE=image/png:https://dq5pwpg1q8ru0.cloudfr
 ont.net/2026/04/20/18/58/22/631345c8-31ac-46ae-a349-bf1e4b5d44d7/G2G2026.p
 ng
END:VEVENT
END:VCALENDAR
