BEGIN:VCALENDAR
VERSION:2.0
PRODID:icalendar-ruby
CALSCALE:GREGORIAN
METHOD:PUBLISH
BEGIN:VEVENT
DTSTAMP:20260421T123757Z
UID:9-265162@firstcoastbaptist.com
DTSTART;VALUE=DATE:20260517
DTEND;VALUE=DATE:20260517
CLASS:PUBLIC
CREATED:20260420T145546
DESCRIPTION:Email questions@fcbcjax.org for more information.
LAST-MODIFIED:20260420T145546
LOCATION:
SUMMARY:Baptism Sunday
URL;VALUE=URI:https://www.firstcoastbaptist.com/events/baptism-sunday--9/20
 26-05-17
ATTACH;FILENAME=Church-2026-29.png;FMTTYPE=image/png:https://dq5pwpg1q8ru0.
 cloudfront.net/2026/04/20/18/55/46/aabb7779-b62b-4d11-9dec-6c86a2bb8f03/Ch
 urch-2026-29.png
END:VEVENT
END:VCALENDAR
